BEGIN:VCALENDAR
PRODID:-//Calendar export
VERSION:2.0
X-WR-TIMEZONE:Etc/GMT
BEGIN:VTIMEZONE
TZID:GMT Standard Time
BEGIN:STANDARD
TZOFFSETFROM:+0000
TZOFFSETTO:+0000
END:STANDARD
END:VTIMEZONE
BEGIN:VEVENT
UID:AE204
DTSTAMP:20260424T204700Z
SUMMARY:Addressing CBD Usage During COVID-19 Pandemic
CLASS:PUBLIC
DESCRIPTION:Pharmacists and technicians are encouraged to attend this w
 ebinar to expa
 nd their knowledge on the different types of CBD products to treat medica
 l conditions such as anxiety\, insomnia\, chronic pain\, and inflammation
 \, and learn important counseling points when consulting patients about t
 he use of CBD products.
STATUS:CONFIRMED
PRIORITY:1
DTSTART:20210421T040000Z
DTEND:20210422T035900Z
TRANSP:OPAQUE
END:VEVENT
END:VCALENDAR
